BEGIN:VCALENDAR
VERSION:2.0
PRODID:-//Library Market//iCal Export//EN
BEGIN:VEVENT
SUMMARY:LEGO® Dinosaur Contest
UID:82496
DTSTAMP:20260423T173800Z
DTSTART:20260625T170000Z
DTEND:20260625T190000Z
LOCATION:1111 Schooldays Drive, Big Island, VA 24526, United States
ROOM: Big Island Community Room
DESCRIPTION:Come get creative and build a dinosaur creation of your choice
  out of LEGOs®! Drop in anytime between 1:00pm and 3:00pm to be entered 
 into the contest and be eligible for a special prize for the winners of ea
 ch age group.Age Group 1: 5-8Age Group 2: 9-12Library staff will vote on a
  winning dinosaur and all LEGO® creations will be on display at the libra
 ry for the following week.
URL:https://bedford.librarycalendar.com/index.php/event/lego-dinosaur-cont
 est-82496
END:VEVENT
END:VCALENDAR
