BEGIN:VCALENDAR
VERSION:2.0
PRODID:-//Library Market//iCal Export//EN
BEGIN:VEVENT
SUMMARY:Monday Movie Presents Disney&#039;s Dinosaur
UID:82498
DTSTAMP:20260425T135900Z
DTSTART:20260608T173000Z
DTEND:20260608T190000Z
LOCATION:1111 Schooldays Drive, Big Island, VA 24526, United States
ROOM: Big Island Movie Area
DESCRIPTION:Stomp into Summer: Dino Movies for the Whole Family!This month
 &#039;s movie is Disney&#039;s Dinosaur (2000), featuring the voices of D.
 B. Sweeney, Julianna Margulies, Alfre Woodard, Ossie Davis, Max Casella, a
 nd more!Plot: This action-packed Disney adventure features eye-popping vis
 uals in a breathtaking blend of computer animation and live-action backgro
 unds. The exciting story centers on Aladar, an iguanodon seeking a far-off
  paradise after a devastating meteor shower. Rated: PGRun Time: 82 Minute
 s
URL:https://bedford.librarycalendar.com/index.php/event/monday-movie-82498
END:VEVENT
END:VCALENDAR
