BEGIN:VCALENDAR
VERSION:2.0
PRODID:-//Library Market//iCal Export//EN
BEGIN:VEVENT
SUMMARY:Bitcoin Self-custody Workshop
UID:83651
DTSTAMP:20260425T015700Z
DTSTART:20260417T233000Z
DTEND:20260418T003000Z
LOCATION:15583 Forest Road, Forest, VA 24551, United States
ROOM: Forest Community Room
DESCRIPTION:Educational discussion on bitcoin self-custody.
URL:https://bedford.librarycalendar.com/index.php/event/bitcoin-self-custo
 dy-workshop-83651
END:VEVENT
END:VCALENDAR
