BEGIN:VCALENDAR
VERSION:2.0
PRODID:-//Library Market//iCal Export//EN
BEGIN:VEVENT
SUMMARY:Creative Constructors
UID:84193
DTSTAMP:20260423T011500Z
DTSTART:20260818T203000Z
DTEND:20260818T213000Z
LOCATION:11575 West Lynchburg-Salem Turnpike, Montvale, VA 24122, United S
 tates
ROOM: Montvale Community Room
DESCRIPTION:Children and Teens (ages 9-17) are invited to join us on the 3
 rd Tuesday of each month as we create incredible things with our imaginati
 on and LEGO blocks!Each month, we will have a different theme.  This mont
 h&#039;s theme - Build your Favorite Storybook Character or Scene!Snacks w
 ill be provided.    
URL:https://bedford.librarycalendar.com/index.php/event/creative-construct
 ors-84193
END:VEVENT
END:VCALENDAR
