BEGIN:VCALENDAR
VERSION:2.0
PRODID:-//Library Market//iCal Export//EN
BEGIN:VEVENT
SUMMARY:Boating Safety Day
UID:84213
DTSTAMP:20260420T142600Z
DTSTART:20260423T140000Z
DTEND:20260423T160000Z
LOCATION:13641 Moneta Road, Moneta, VA 24121, United States
ROOM: Moneta Outside
DESCRIPTION:Join us for a morning of learning about Boating Safety! Open t
 o all ages! Multiple games and activities, including create your own boat!
  Walk through at your own pace. Presented by the Wake Education Task Force
 , the Smith Mountain Lake Association, the Tri-County Lakes Administrative
  Commission, the Farm Bureau Women&#039;s Leadership, the Homeschool Hub, 
 and the Moneta/SML Library.Registration is requested. Register to get an e
 mail reminder about the event!
URL:https://bedford.librarycalendar.com/event/boating-safety-day-84213
END:VEVENT
END:VCALENDAR
